BEGIN:VCALENDAR
VERSION:2.0
PRODID:-//Θεατρική Ομάδα Καλύμνου - ECPv3.12.1//NONSGML v1.0//EN
CALSCALE:GREGORIAN
METHOD:PUBLISH
X-WR-CALNAME:Θεατρική Ομάδα Καλύμνου
X-ORIGINAL-URL:https://www.thokalymnou.org
X-WR-CALDESC:Events for Θεατρική Ομάδα Καλύμνου
BEGIN:VEVENT
DTSTART:20190812T181500Z
DTEND:20190812T200000Z
DTSTAMP:20260425T112302Z
CREATED:20190809T152448Z
LAST-MODIFIED:20190809T152903Z
UID:1818-1565633700-1565640000@www.thokalymnou.org
SUMMARY:Πέσε και πέθανε
DESCRIPTION:Την κωμωδία "Πέσε και πέθανε" των Billy Van Zandt & Jane Milmore παρουσιάζει η νεανική σκηνή "Δίνη" της Θεατρική Ομάδας Καλύμνου από τις 10 έως τις 12 Αυγούστου\, στις 9.15 το βράδυ\, στο ανοιχτό θέατρο χώρας.Συνδρομή παράστασης €5.Είσοδος σε άτομα άνω των 12.
URL:https://www.thokalymnou.org/event/%cf%80%ce%ad%cf%83%ce%b5-%ce%ba%ce%b1%ce%b9-%cf%80%ce%ad%ce%b8%ce%b1%ce%bd%ce%b5-3/
LOCATION:Χωριό\, Κάλυμνος\, 85 200\, Ελλάδα
CATEGORIES:Παραστάσεις
ATTACH;FMTTYPE=image/jpeg:https://www.thokalymnou.org/wp-content/uploads/2019-pese-kai-pethane-poster.jpg
ORGANIZER;CN="%CE%98%CE%B5%CE%B1%CF%84%CF%81%CE%B9%CE%BA%CE%AE%20%CE%9F%CE%BC%CE%AC%CE%B4%CE%B1%20%CE%9A%CE%B1%CE%BB%CF%8D%CE%BC%CE%BD%CE%BF%CF%85":MAILTO:info@thokalymnou.org
END:VEVENT
END:VCALENDAR