BEGIN:VCALENDAR
VERSION:2.0
PRODID:-//Θεατρική Ομάδα Καλύμνου - ECPv3.12.1//NONSGML v1.0//EN
CALSCALE:GREGORIAN
METHOD:PUBLISH
X-WR-CALNAME:Θεατρική Ομάδα Καλύμνου
X-ORIGINAL-URL:https://www.thokalymnou.org
X-WR-CALDESC:Events for Θεατρική Ομάδα Καλύμνου
BEGIN:VEVENT
DTSTART:20190630T183000Z
DTEND:20190630T203000Z
DTSTAMP:20260425T135750Z
CREATED:20190620T075324Z
LAST-MODIFIED:20190809T152927Z
UID:1789-1561919400-1561926600@www.thokalymnou.org
SUMMARY:Οι ερωτευμένοι της Βαλένθια
DESCRIPTION:Στην τρέλα του πάθους και στο πάθος της τρέλας θα είμαστε φέτος το καλοκαίρι εμείς στη ΘΟΚ!Με το έργο του Ισπανού Lope de Vega "Οι Ερωτευμένοι της Βαλένθια"\, σας ταξιδεύουμε στη Μεσογειακή Ισπανική αυτή πόλη\, που χρησιμοποιεί ως κρησφύγετό του ο ήρωάς μας\, παρασύροντας κι άλλους\, παράφρονες και λογικούς\, στη δίνη του έρωτα!Μια μεγάλη παρέα 30 μελών της ΘΟΚ\, παιδιών\, εφήβων κι ενηλίκων\, με τη σκηνοθετική καθοδήγηση της Κατερίνας Κλωνάρη\, ντύνονται Βαλενθιάνοι και ξεχύνονται σε πλατείες και δρόμους για να μας θυμίσουν πως «ο έρωτας είναι η πιο περίπλοκη μορφή της τρέλας!».Θα είμαστε εκεί\, στο Ανοιχτό Θέατρο Χώρας\, την Παρασκευή 28\, το Σάββατο 29 στις 9:15 μμ\, την Κυριακή 30 Ιουνίου στις 9:30 μμ\, την Τετάρτη 3\, την Παρασκευή 5 και το Σάββατο 6 Ιουλίου στις 9:15 μμ\, για να γευτείτε κι εσείς κάτι από την «πηγή της ύπαρξής μας»!Που ξέρετε; Μπορεί να παρασυρθείτε!Συνδρομή παράστασης για ενήλικες €7 και για παιδιά €5\, διάθεση εισιτηρίων στο Ζαχαρ/στειο "στου Μιχαλαρα" (σταθμός ταξι) και στο κατάστημα Ηλεκτρικών Ειδών Τρικοίλης (σταθμός ταξι).
URL:https://www.thokalymnou.org/event/oi-erotevmenoi-tis-valenthia-30062019/
LOCATION:Χωριό\, Κάλυμνος\, 85 200\, Ελλάδα
CATEGORIES:Παραστάσεις
ATTACH;FMTTYPE=image/jpeg:https://www.thokalymnou.org/wp-content/uploads/2019-oi-erotevmenoi-tis-valenthia-poster.jpg
ORGANIZER;CN="%CE%98%CE%B5%CE%B1%CF%84%CF%81%CE%B9%CE%BA%CE%AE%20%CE%9F%CE%BC%CE%AC%CE%B4%CE%B1%20%CE%9A%CE%B1%CE%BB%CF%8D%CE%BC%CE%BD%CE%BF%CF%85":MAILTO:info@thokalymnou.org
END:VEVENT
END:VCALENDAR